BEGIN:VCALENDAR
VERSION:2.0
PRODID:-//Fast North Corp//Race Roster
CALSCALE:GREGORIAN
BEGIN:VEVENT
UID:882283_cf01c13d-a83b-46f4-ad41-4d3fa1ffe729_1776742476@raceroster.com
DTSTAMP:20260421T033436Z
SUMMARY:Run for Montreal - 2026
DTSTART;TZID=America/Toronto:20260523T093000
DTEND;TZID=America/Toronto:20260523T123000
URL;VALUE=URI:https://montreal-m4m.raceroster.com
 26
DESCRIPTION:See all event details at https://raceroster.com/events/2026/117
 889/run-for-montreal-2026
LOCATION:Parc des Hirondelles\, Rue Fleury East\, Montreal\, QC\, Canada
END:VEVENT
END:VCALENDAR
